BEGIN:VCALENDAR
VERSION:2.0
PRODID:-//Nerd Louisville - ECPv6.15.20//NONSGML v1.0//EN
CALSCALE:GREGORIAN
METHOD:PUBLISH
X-ORIGINAL-URL:https://nerdlouisville.org
X-WR-CALDESC:Events for Nerd Louisville
REFRESH-INTERVAL;VALUE=DURATION:PT1H
X-Robots-Tag:noindex
X-PUBLISHED-TTL:PT1H
BEGIN:VTIMEZONE
TZID:America/Kentucky/Louisville
BEGIN:DAYLIGHT
TZOFFSETFROM:-0500
TZOFFSETTO:-0400
TZNAME:EDT
DTSTART:20230312T070000
END:DAYLIGHT
BEGIN:STANDARD
TZOFFSETFROM:-0400
TZOFFSETTO:-0500
TZNAME:EST
DTSTART:20231105T060000
END:STANDARD
BEGIN:DAYLIGHT
TZOFFSETFROM:-0500
TZOFFSETTO:-0400
TZNAME:EDT
DTSTART:20240310T070000
END:DAYLIGHT
BEGIN:STANDARD
TZOFFSETFROM:-0400
TZOFFSETTO:-0500
TZNAME:EST
DTSTART:20241103T060000
END:STANDARD
BEGIN:DAYLIGHT
TZOFFSETFROM:-0500
TZOFFSETTO:-0400
TZNAME:EDT
DTSTART:20250309T070000
END:DAYLIGHT
BEGIN:STANDARD
TZOFFSETFROM:-0400
TZOFFSETTO:-0500
TZNAME:EST
DTSTART:20251102T060000
END:STANDARD
END:VTIMEZONE
BEGIN:VEVENT
DTSTART;TZID=America/Kentucky/Louisville:20240922T173000
DTEND;TZID=America/Kentucky/Louisville:20240922T213000
DTSTAMP:20260420T025309
CREATED:20240910T000527Z
LAST-MODIFIED:20240922T205847Z
UID:10000003-1727026200-1727040600@nerdlouisville.org
SUMMARY:Slur Your Role 149
DESCRIPTION:Slur Your Role 149\nHome\nSlur Your Role 149\n \nGame Details\nDate & Time:\nSeptember 22\n@\n5:30 pm\n–\n9:30 pm \nLight ’em Up Feast: A Dungeons & Doobies One Hit\n(D&D 5e)\nRan by Richard Darshwood (He/Him)\nLevel: A most excellent adventure for a 5th Level Party of Heady Heroes!\nCharacters: Pregens will be provided or Bring Your Own Character \nDescription: Terror ignites at Light-em Up Fest\, 710 of The Hazy Calender (THC) and now your help is needed to discover the skeezy source of the shady shenanigans that have ruined the most bad ass beach party of the year! \nSo pack your pipe\, take a critical hit and get blown away to Cheeba (The Land of Kineness)\, a 420-friendly landscape which happens to be the campaign setting for the dopest D&D actual play podcast on the world wide web. Join Darshwood – the most dutiful and dubious of Doobie Masters – on a one shot adventure in the psychedelic stomping grounds of the most beloved characters from our show to create your very own toasty tale! \nCan you successfully meander around the mostly mellow monsters of Tim’lyria – the toastiest planet in the multi-verse – and fare well against the fair-whethered friends and foes of the realm? \nGet Tickets \nThe Dreaming Ward\n(Call of Cthulhu)\nRan by Matt McCloud (He/Him)\nLevel: Beginners Welcome!\nCharacters: Pregens will be provided. \nDescription: 1928 Boston–  you have been selected for a group study by a prominent psychologist to help you with your horrible nightmares! Will the cure be worse than the affliction? \nCall of Cthulhu is the world’s best roleplaying game of mystery and horror. In Call of Cthulhu\, you take on the role of everyday people who become investigators of the unknown—whether they are prepared or not. The mysterious places\, people\, and situations you encounter are often not what they seem—you and your friends are the only thing standing in the way of diabolical cults and cosmic monsters from beyond space! \nGet Tickets \nThe Trial of the Slime Lord\n(Shadowdark)\nRan by Bill Henderson (He/Him)\nLevel: Beginners Welcome!\nCharacters: Pregens will be provided. \nDescription: Kidnapped and dropped into the Slime Lord’s cursed dungeon with limited gear and scarce torches\, you face a chilling trial. Navigate traps\, solve puzzles\, and outsmart the cult to escape the enveloping darkness. Will you earn the boon or be doomed to haunt forever? \nThe Shadowdark RPG is a critically-acclaimed tabletop fantasy RPG that raised $1.3 million on Kickstarter in March 2023. It won the 2024 Three Castles Award for best game design\, as well as four gold ENNIEs: Product of the Year\, Best Game\, Best Rules\, and Best Layout & Design. \nGet Tickets \n\n\n\n \nTickets\nThe numbers below include tickets for this event already in your cart. Clicking “Get Tickets” will allow you to edit any existing attendee information as well as change ticket quantities.\nLight ’em Up Feast: A Dungeons & Doobies One Hit (D&D 5e)\nRan by Richard Darshwood (He/Him) | 5th Level\n| Pregens provided or bring your own character\n$6.00\n4 available\n\nDecrease ticket quantity for Light ’em Up Feast: A Dungeons & Doobies One Hit (D&D 5e)\n–\n\nQuantity \n\n\nIncrease ticket quantity for Light ’em Up Feast: A Dungeons & Doobies One Hit (D&D 5e)\n+\n\nThe Dreaming Ward (Call of Cthulhu)\nRan by Matt McCloud (He/Him) | Pregens provided\n$6.00\n5 available\n\nDecrease ticket quantity for The Dreaming Ward (Call of Cthulhu)\n–\n\nQuantity \n\n\nIncrease ticket quantity for The Dreaming Ward (Call of Cthulhu)\n+\n\nThe Trial of the Slime Lord (Shadowdark)\nRan by Bill Henderson (He/Him) | Pregens provided | Beginners welcome\, Level 0 Gauntlet!\n$6.00\n2 available\n\nDecrease ticket quantity for The Trial of the Slime Lord (Shadowdark)\n–\n\nQuantity \n\n\nIncrease ticket quantity for The Trial of the Slime Lord (Shadowdark)\n+\n\nQuantity:\n0\nTotal:\n$0.00\nGet Tickets \n\nVenue\n\nKaiju Bar \nAddress:\n1004 E Oak StLouisville\,\nKY\n40204\nUnited States \n\n+ Google Map \n  \nView Venue Website \n\n \nAs always\, drink responsibly and tip your bartender! Many thanks to Kaiju for hosting our event. \nOnline Registration Policy:\n\nYour registration guarantees you a spot in a game.\nIf the game you registered for is canceled\, you will be offered a spot in another game if at all possible. If we cannot find you another game\, we will refund your registration fee.\nOther than the occurence of a cancellation of the event\, there are no refunds for online registration.\nIf you are not at your table by 10 minutes after game starts. you forfeit your reserved seat. Please show up by early to find your game.\n\nThe Slur Your Role Code of Conduct:\nTreat everyone with respect\, regardless of race\, religion\, gender\, orientation\, ability\, favorite edition\, or other differences. Avoid depicting stereotypes of real-world minority groups. Do not depict sexual assault or threats. \nAll nerds were created equal\, so treat them that way! Help your GM enforce the code. You can also discreetly text (502) 552-4188 or speak to the event coordinator to report issues.
URL:https://nerdlouisville.org/event/slur-your-role-149/
LOCATION:Kaiju Bar\, 1004 E Oak St\, Louisville\, KY\, 40204\, United States
CATEGORIES:Slur Your Roll
ATTACH;FMTTYPE=image/jpeg:https://nerdlouisville.org/wp-content/uploads/2024/09/SYR149-Banner.jpg
END:VEVENT
BEGIN:VEVENT
DTSTART;TZID=America/Kentucky/Louisville:20240920T180000
DTEND;TZID=America/Kentucky/Louisville:20240920T220000
DTSTAMP:20260420T025309
CREATED:20240910T155214Z
LAST-MODIFIED:20240910T155845Z
UID:10000004-1726855200-1726869600@nerdlouisville.org
SUMMARY:Friday Night Gaming 08
DESCRIPTION:Friday Night Gaming 08\n                    Home\n                    Friday Night Gaming 08\n     \nGame Details\n\n	Date & Time:\n			September 20\n	 @\n6:00 pm\n	 –\n10:00 pm \nHigh Adventure in a World of Magic(Heroquest)\nRan by Mike Robinson (He/Him)\nLevel: BeginnerCharacters: Pregens will be provided \nDescription: For many years the land has been at peace. The darkness that once threatened to engulf it is forgotten. But the darkness was not destroyed\, merely vanished. And now it gathers strength once more and an ancient evil stirs in the depths of the earth. The land needs heroes for without them we are doomed. (A quote from the Heroquest the board game) A melding of TTRPG adventure with board game goodness. The evil dread lord Zargon has raised his armies once again to cover the land in a 2nd darkness. Will you stop him and his monster hordes? Brave heroes of the realm\, the quest continues at Friday night gaming. A game for ages 14 plus\, some themes of violence in board gaming. \n     Get Tickets \nA Party to Remember(D&D 5e)\nRan by Kassandra (She/Her)\nLevel: 8th Level AdventureCharacters: Pregens will NOT be provided or Bring Your Own Character \nDescription: The party has been hired by a crime boss named Gold Tusk. The job is simple attend a party for a noble and steal there most treasured possession. Gather any information from the other guest and locate the object. Oh and a warning don’t get caught by the owner of the house. \n     Get Tickets \nShards of the Glass Planet(Starfinder 2E)\nRan by Kenan Shelton (He/Him)\nLevel: 1 — Beginners Welcome!Characters: Pregens will be provided. \nDescription: The planet of Birnam’s Bubble has been encased in a sphere of impenetrable energy since its discovery\, but that bubble is shattering\, opening the planet up for exploration. At the behest of the church of Weydan\, god of discovery and exploration\, the PCs visit Birnam’s Bubble to perform a survey of ancient structures in the jungle before they’re destroyed forever by the energy shards that now rain from the sky. During their survey\, the PCs face dangerous wildlife and meet the mysterious residents of the planet\, the alithee. \n     Get Tickets \n\n		\n		\n		\n		 \n\n	Tickets\n		The numbers below include tickets for this event already in your cart. Clicking “Get Tickets” will allow you to edit any existing attendee information as well as change ticket quantities.\n				High Adventure in a World of Magic (Heroquest)\n	Ran by Mike Robinson (He/Him)  |  Level: Beginner (pregens provided)\n		$10.00\n	 4  available\n			\n	Decrease ticket quantity for High Adventure in a World of Magic (Heroquest)\n	–\n	\n		Quantity	\n	\n		\n	Increase ticket quantity for High Adventure in a World of Magic (Heroquest)\n	+\n		\n				A Party to Remember (D&D 5e)\n	Ran by Kassandra (She/Her)  |  Level: 8th (BYO character/no pregens provided)\n		$10.00\n	 3  available\n			\n	Decrease ticket quantity for A Party to Remember (D&D 5e)\n	–\n	\n		Quantity	\n	\n		\n	Increase ticket quantity for A Party to Remember (D&D 5e)\n	+\n		\n				Shards of the Glass Planet (Starfinder 2E)\n	Ran by Kenan Shelton (He/Him)  |  Level: 1 (Pregens provided)\n		$10.00\n	 6  available\n			\n	Decrease ticket quantity for Shards of the Glass Planet (Starfinder 2E)\n	–\n	\n		Quantity	\n	\n		\n	Increase ticket quantity for Shards of the Glass Planet (Starfinder 2E)\n	+\n		\n		Quantity:\n	0\n		Total:\n		$0.00\n	Get Tickets\n	\n	\n	\n	\n\n	Venue\n\n	Otaku Manga Lounge\n\n	Address:\n\n2902 Bardstown Road\n		\n		Louisivlle\,\n	KY\n	40205\n	United States\n\n\n	+ Google Map \n\n					\n			(502) 333-0100			\n	 \n\n	View Venue Website \n\n \nAs always\, drink responsibly and tip your bartender! Many thanks to Kaiju for hosting our event.  \nOnline Registration Policy: \n\nYour registration guarantees you a spot in a game. \nIf the game you registered for is canceled\, you will be offered a spot in another game if at all possible. If we cannot find you another game\, we will refund your registration fee. \nOther than the occurence of a cancellation of the event\, there are no refunds for online registration. \nIf you are not at your table by 10 minutes after game starts. you forfeit your reserved seat. Please show up by early to find your game. \n\nThe Slur Your Role Code of Conduct:\nTreat everyone with respect\, regardless of race\, religion\, gender\, orientation\, ability\, favorite edition\, or other differences. Avoid depicting stereotypes of real-world minority groups. Do not depict sexual assault or threats. \nAll nerds were created equal\, so treat them that way! Help your GM enforce the code. You can also discreetly text (502) 552-4188 or speak to the event coordinator to report issues.
URL:https://nerdlouisville.org/event/friday-night-gaming-08/
LOCATION:Otaku Manga Lounge\, 2902 Bardstown Road\, Louisivlle\, KY\, 40205\, United States
CATEGORIES:Friday Night Gaming
ATTACH;FMTTYPE=image/jpeg:https://nerdlouisville.org/wp-content/uploads/2024/09/Friday-Night-Gaming-Master-1.jpg
END:VEVENT
END:VCALENDAR